BEGIN:VCALENDAR
VERSION:2.0
PRODID:-//Et si nous - ECPv6.15.20//NONSGML v1.0//EN
CALSCALE:GREGORIAN
METHOD:PUBLISH
X-ORIGINAL-URL:https://etsinous.org
X-WR-CALDESC:Évènements pour Et si nous
REFRESH-INTERVAL;VALUE=DURATION:PT1H
X-Robots-Tag:noindex
X-PUBLISHED-TTL:PT1H
BEGIN:VTIMEZONE
TZID:Europe/Paris
BEGIN:DAYLIGHT
TZOFFSETFROM:+0100
TZOFFSETTO:+0200
TZNAME:CEST
DTSTART:20240331T010000
END:DAYLIGHT
BEGIN:STANDARD
TZOFFSETFROM:+0200
TZOFFSETTO:+0100
TZNAME:CET
DTSTART:20241027T010000
END:STANDARD
BEGIN:DAYLIGHT
TZOFFSETFROM:+0100
TZOFFSETTO:+0200
TZNAME:CEST
DTSTART:20250330T010000
END:DAYLIGHT
BEGIN:STANDARD
TZOFFSETFROM:+0200
TZOFFSETTO:+0100
TZNAME:CET
DTSTART:20251026T010000
END:STANDARD
BEGIN:DAYLIGHT
TZOFFSETFROM:+0100
TZOFFSETTO:+0200
TZNAME:CEST
DTSTART:20260329T010000
END:DAYLIGHT
BEGIN:STANDARD
TZOFFSETFROM:+0200
TZOFFSETTO:+0100
TZNAME:CET
DTSTART:20261025T010000
END:STANDARD
BEGIN:DAYLIGHT
TZOFFSETFROM:+0100
TZOFFSETTO:+0200
TZNAME:CEST
DTSTART:20270328T010000
END:DAYLIGHT
BEGIN:STANDARD
TZOFFSETFROM:+0200
TZOFFSETTO:+0100
TZNAME:CET
DTSTART:20271031T010000
END:STANDARD
END:VTIMEZONE
BEGIN:VEVENT
DTSTART;TZID=Europe/Paris:20260411T203000
DTEND;TZID=Europe/Paris:20260411T220000
DTSTAMP:20260425T163823
CREATED:20260321T174216Z
LAST-MODIFIED:20260321T180336Z
UID:2363-1775939400-1775944800@etsinous.org
SUMMARY:"LE PAS DE LA TORTUE"   Road movie musical pour un acteur et quelques accessoires.
DESCRIPTION:Road movie musical pour un acteur et quelques accessoires. \nPrix libre et conscient \nRéservations par sms au 06 83 70 24 59 \nDepuis des années je parcours les routes. Au bord des routes\, il y a des gens\, qui attendent ou qui cheminent\, qui travaillent ou qui chôment\, qui s’aiment\, derrière des portes fermées\, ou dans des jardins\, des sous-bois. Il y a aussi des paysages vides où il ne reste que des traces. Alors je photographie ces lieux et le soir\, dans des chambres de passage\, avec ces images\, j’écris ces brins de vie cueillis sur le bord des routes. Figures et paysages\, au pas de la tortue\, faire connaissance\, partager ces vies minuscules qui nous ressemblent. \nIl y aura un berger analphabète\, un catcheur\, un escargot intrépide\, une pom-pom girl\, un prince déchu\, le sosie de Johnny Cash\, un ouvrier mutique\, un amoureux transi\, un ancien combattant\, un marchand de crêpes\, un réfugié syrien\, un boiteux\, une belle de nuit… Et une tortue charbonnière. Il y aura le ciel\, la route\, le vent\, la pluie\, les herbes\, les pierres et les arbres. \n 
URL:https://etsinous.org/event/le-pas-de-la-tortue-road-movie-musical-pour-un-acteur-et-quelques-accessoires/
LOCATION:Le Barlàbas\, Rue de l'égalité\, Barcillonnette\, 05110\, France
CATEGORIES:Actualités
ATTACH;FMTTYPE=image/jpeg:https://etsinous.org/wp-content/uploads/2026/03/le-pas-de-la-tortue-r.jpg
END:VEVENT
BEGIN:VEVENT
DTSTART;TZID=Europe/Paris:20260314T200000
DTEND;TZID=Europe/Paris:20260314T221500
DTSTAMP:20260425T163823
CREATED:20260225T162043Z
LAST-MODIFIED:20260225T162043Z
UID:2339-1773518400-1773526500@etsinous.org
SUMMARY:Cinévadrouille "L'Affaire Bojarski"
DESCRIPTION:Film de Jean-Paul Salomé · 2 h 08 min · 14 janvier 2026 (France) \nGenres : Drame\, Biopic \nLe réalisateur Jean-Paul Salomé s’inspire de la vie de Jan Bojarski\, un ingénieur polonais devenu faussaire de billets dans la France des années 1940.
URL:https://etsinous.org/event/cinevadrouille-laffaire-bojarski/
LOCATION:Le Bar Là-Bas\, Barcillonnette\, 05110\, France
CATEGORIES:Actualités
ATTACH;FMTTYPE=image/jpeg:https://etsinous.org/wp-content/uploads/2026/02/AFFICHE_20BOJARSKI0.jpg
END:VEVENT
BEGIN:VEVENT
DTSTART;TZID=Europe/Paris:20260313T200000
DTEND;TZID=Europe/Paris:20260313T220000
DTSTAMP:20260425T163823
CREATED:20260228T152106Z
LAST-MODIFIED:20260228T152106Z
UID:2342-1773432000-1773439200@etsinous.org
SUMMARY:" Last Call" au Bar-là-Bas
DESCRIPTION:Une soirée guitare et chants avec des reprises :  Bob Dylan\, Beatles\, Eagles\, Neil Young\, America\, Simon & Garfunkel\, Crosby Stills & Nash\, Johnny Cash\, Willie Nelson\, Creedence Clearwater Revival\, Dire Straits…
URL:https://etsinous.org/event/last-call-au-bar-la-bas/
LOCATION:BARCILLONNETTE\, 05110\, France
CATEGORIES:Actualités
ATTACH;FMTTYPE=image/jpeg:https://etsinous.org/wp-content/uploads/2026/02/LAST-CALL.jpg
END:VEVENT
BEGIN:VEVENT
DTSTART;TZID=Europe/Paris:20260301T080000
DTEND;TZID=Europe/Paris:20260330T170000
DTSTAMP:20260425T163823
CREATED:20260228T153208Z
LAST-MODIFIED:20260318T112854Z
UID:2345-1772352000-1774890000@etsinous.org
SUMMARY:Se détendre au Bar-là-Bas en mars
DESCRIPTION:Toutes nos propositions pour échanger\, se divertir…
URL:https://etsinous.org/event/se-detendre-au-bar-la-bas-en-mars/
LOCATION:BARCILLONNETTE\, 05110\, France
CATEGORIES:Actualités
ATTACH;FMTTYPE=image/jpeg:https://etsinous.org/wp-content/uploads/2026/02/blb-mars-26.jpg
END:VEVENT
BEGIN:VEVENT
DTSTART;TZID=Europe/Paris:20260221T200000
DTEND;TZID=Europe/Paris:20260221T220000
DTSTAMP:20260425T163823
CREATED:20251226T162937Z
LAST-MODIFIED:20251226T162937Z
UID:2307-1771704000-1771711200@etsinous.org
SUMMARY:" La condition" séance Cinévadrouille au Bar-là-bas
DESCRIPTION:« La Condition » : deux femmes que tout sépare prennent leur destin en main dans le nouveau film de Jérôme Bonnell \nFrance info : Jérôme Bonnell scrute la bourgeoisie corsetée du début du XXe siècle dans une mise en scène méticuleuse. \n1 h 43 min · 10 décembre 2025 (France) \n 
URL:https://etsinous.org/event/la-condition-seance-cinevadrouille-au-bar-la-bas/
LOCATION:BARCILLONNETTE\, 05110\, France
CATEGORIES:Actualités
ATTACH;FMTTYPE=image/jpeg:https://etsinous.org/wp-content/uploads/2025/12/CONDITION-aff.jpg
END:VEVENT
BEGIN:VEVENT
DTSTART;TZID=Europe/Paris:20260207T133000
DTEND;TZID=Europe/Paris:20260207T153000
DTSTAMP:20260425T163823
CREATED:20260123T153219Z
LAST-MODIFIED:20260123T153219Z
UID:2324-1770471000-1770478200@etsinous.org
SUMMARY:Préparation " Chaud Devant !"
DESCRIPTION:Après l’ag d’Et si Nous et un repas partagé\, on continue à organiser le festival. \nN’hésitez pas à nous rejoindre.
URL:https://etsinous.org/event/preparation-chaud-devant/
LOCATION:Le Barlàbas\, Rue de l'égalité\, Barcillonnette\, 05110\, France
CATEGORIES:Actualités
ATTACH;FMTTYPE=image/jpeg:https://etsinous.org/wp-content/uploads/2025/12/maquette-affiche-fest-ss-partenaiore.jpg
END:VEVENT
BEGIN:VEVENT
DTSTART;TZID=Europe/Paris:20260207T093000
DTEND;TZID=Europe/Paris:20260207T120000
DTSTAMP:20260425T163823
CREATED:20251226T141048Z
LAST-MODIFIED:20251226T141048Z
UID:2292-1770456600-1770465600@etsinous.org
SUMMARY:Assemblée générale Et si Nous
DESCRIPTION:Rdv le samedi 7 février à 9h30 pour notre assemblée générale.
URL:https://etsinous.org/event/assemblee-generale-et-si-nous/
LOCATION:Le Barlàbas\, Rue de l'égalité\, Barcillonnette\, 05110\, France
ATTACH;FMTTYPE=image/png:https://etsinous.org/wp-content/uploads/2025/01/AG.png
END:VEVENT
BEGIN:VEVENT
DTSTART;TZID=Europe/Paris:20260201T080000
DTEND;TZID=Europe/Paris:20260228T170000
DTSTAMP:20260425T163823
CREATED:20260201T172218Z
LAST-MODIFIED:20260201T172218Z
UID:2330-1769932800-1772298000@etsinous.org
SUMMARY:En février\, au Bar-là-Bas
DESCRIPTION:Des rencontres\, du cinéma\, des réunions\, de la danse… \nVenez nous voir au Bar-là-Bas
URL:https://etsinous.org/event/en-fevrier-au-bar-la-bas/
LOCATION:BARCILLONNETTE\, 05110\, France
CATEGORIES:Actualités
ATTACH;FMTTYPE=image/jpeg:https://etsinous.org/wp-content/uploads/2026/02/2-fevrier-26-blb.jpg
END:VEVENT
BEGIN:VEVENT
DTSTART;TZID=Europe/Paris:20260124T200000
DTEND;TZID=Europe/Paris:20260124T220000
DTSTAMP:20260425T163823
CREATED:20251226T162037Z
LAST-MODIFIED:20251226T162037Z
UID:2304-1769284800-1769292000@etsinous.org
SUMMARY:"Le Chant des Forêts" séance Cinévadrouille à Barcillonnette
DESCRIPTION:Amoureux de la nature\, ne manquez pas le film de Vincent Munier.
URL:https://etsinous.org/event/le-chant-des-forets-seance-cinevadrouille-a-barcillonnette/
LOCATION:Le Bar Là-Bas\, Barcillonnette\, 05110\, France
CATEGORIES:Actualités
ATTACH;FMTTYPE=image/png:https://etsinous.org/wp-content/uploads/2025/12/aff_20le_20chant_20des_20forets-prev2.png
END:VEVENT
BEGIN:VEVENT
DTSTART;TZID=Europe/Paris:20260124T093000
DTEND;TZID=Europe/Paris:20260125T130000
DTSTAMP:20260425T163823
CREATED:20260104T150441Z
LAST-MODIFIED:20260104T150659Z
UID:2314-1769247000-1769346000@etsinous.org
SUMMARY:STAGE     Chant du monde italien
DESCRIPTION:Le Bar-Là-Bas accueille un stage de chant du monde italien\nStage avec Laura Guitot (Terracanto) \nDeux journées d’écoute et de pratique polyphonique autour du chant de tradition orale venu d’Italie\, dans la joie\, et l’ouverture ! Chants de lutte\, du monde paysan\, chants des femmes travailleuses des rizières : un riche patrimoine historique et linguistique sera exploré durant le stage. \n\n\nNous expérimenterons le plaisir et l’écoute des vibrations\, l’ancrage et la circulation de la voix dans le corps en prenant appui sur des polyphonies simples et intuitives. \nDes instruments didactiques ludiques permettront d’expérimenter différents aspects du chant à plusieurs afin d’élaborer ensemble des outils communs au groupe éphémère du stage. Un climat détendu et sans jugement permettra de vivre et d’accueillir les tentatives et les erreurs comme des passages indispensables pour rejoindre le plaisir de chanter ensemble. \nLe répertoire de chants à plusieurs voix\, chant de lutte ou de travail sera replacé dans les contextes historiques\, politiques et sociaux de l’époque\, pour en apprécier les enjeux importants\, passés mais souvent aussi très actuels ! \n  \nINFOS PRATIQUES : \n\nstage ouvert à tous·tes : débutant ou chanteur·euses régulièr·es\, adultes et ados à partir de 16 ans\ntarif : entre 65 et 95€ selon les moyens des participant.es.\nhoraires : le samedi : 9h30-13h\, 14h30-17h00\, le dimanche : 9h30-13h\ninscriptions limitées à 22 places via ce lien : https://framaforms.org/chant-du-monde-populaire-italien-a-barcillonette-les-24-et-25-janvier-1765820645\nlieu du stage : Le Bar-là-bas\, Barcillonette (05)
URL:https://etsinous.org/event/stage-chant-du-monde-italien/
LOCATION:Le Bar Là-Bas\, Barcillonnette\, 05110\, France
CATEGORIES:Actualités
ATTACH;FMTTYPE=image/png:https://etsinous.org/wp-content/uploads/2026/01/Stage-Chant-du-monde-populaire-italien.png
END:VEVENT
BEGIN:VEVENT
DTSTART;TZID=Europe/Paris:20260123T080000
DTEND;TZID=Europe/Paris:20260131T170000
DTSTAMP:20260425T163823
CREATED:20260123T154000Z
LAST-MODIFIED:20260123T154000Z
UID:2326-1769155200-1769878800@etsinous.org
SUMMARY:Les rdv de janvier au Bar-là-Bas
DESCRIPTION:Tous les rdv en un seul coup d’oeil
URL:https://etsinous.org/event/les-rdv-de-janvier-au-bar-la-bas/
LOCATION:Le Bar Là-Bas\, Barcillonnette\, 05110\, France
CATEGORIES:Actualités
ATTACH;FMTTYPE=image/png:https://etsinous.org/wp-content/uploads/2026/01/Progr-blb-janv-26.png
END:VEVENT
BEGIN:VEVENT
DTSTART;TZID=Europe/Paris:20260110T140000
DTEND;TZID=Europe/Paris:20260110T160000
DTSTAMP:20260425T163823
CREATED:20251226T145707Z
LAST-MODIFIED:20260123T152345Z
UID:2299-1768053600-1768060800@etsinous.org
SUMMARY:Réunion  Chaud devant
DESCRIPTION:Le festival se prépare ! N’hésitez pas à nous rejoindre.
URL:https://etsinous.org/event/reunion-chaud-devant/
LOCATION:Le Barlàbas\, Rue de l'égalité\, Barcillonnette\, 05110\, France
CATEGORIES:Actualités
ATTACH;FMTTYPE=image/jpeg:https://etsinous.org/wp-content/uploads/2025/12/maquette-affiche-fest-ss-partenaiore.jpg
END:VEVENT
BEGIN:VEVENT
DTSTART;TZID=Europe/Paris:20260109T183000
DTEND;TZID=Europe/Paris:20260109T220000
DTSTAMP:20260425T163823
CREATED:20251226T144115Z
LAST-MODIFIED:20251226T153959Z
UID:2296-1767983400-1767996000@etsinous.org
SUMMARY:Soirée africaine et chaleureuse
DESCRIPTION:Pour bien commencer l’année\, on se retrouve\, vendredi 9 janvier\,  dans une ambiance chaleureuse avec un peu de musique\, un mafé cuisiné par Cécilia et des parties d’Awalé pour ceux qui aiment jouer.
URL:https://etsinous.org/event/soiree-africaine-et-chaleureuse/
LOCATION:Le Barlàbas\, Rue de l'égalité\, Barcillonnette\, 05110\, France
CATEGORIES:Actualités
ATTACH;FMTTYPE=image/jpeg:https://etsinous.org/wp-content/uploads/2025/12/csoiree-africaine.jpg
END:VEVENT
BEGIN:VEVENT
DTSTART;TZID=Europe/Paris:20251220T080000
DTEND;TZID=Europe/Paris:20260107T180000
DTSTAMP:20260425T163823
CREATED:20251226T141542Z
LAST-MODIFIED:20251226T144433Z
UID:2294-1766217600-1767808800@etsinous.org
SUMMARY:Fermeture exceptionnelle du bar associatif
DESCRIPTION:Le Bar-là-bas sera fermé les 26 décembre et 2 janvier. \nOn reprend des forces et on se retrouve vendredi 9 janvier dès 18h30
URL:https://etsinous.org/event/fermeture-exceptionnelle-du-bar-associatif/
LOCATION:Le Bar Là-Bas\, Barcillonnette\, 05110\, France
CATEGORIES:Actualités
ATTACH;FMTTYPE=image/jpeg:https://etsinous.org/wp-content/uploads/2025/11/barlabas-nv-facade.jpg
END:VEVENT
BEGIN:VEVENT
DTSTART;TZID=Europe/Paris:20251213T200000
DTEND;TZID=Europe/Paris:20251213T223000
DTSTAMP:20260425T163823
CREATED:20251107T154945Z
LAST-MODIFIED:20251107T160020Z
UID:2278-1765656000-1765665000@etsinous.org
SUMMARY:"Kaamelott 2" Séance Cinévadrouille au Bar-Là-Bas
DESCRIPTION:Les Dieux sont en colère contre Arthur ! Après la destruction de Kaamelott\, son refus obstiné de tuer Lancelot précipite le Royaume de Logres à sa perte. Il réunit ses Chevaliers\, novices téméraires et vétérans désabusés\, autour de la Nouvelle Table Ronde et les envoie prouver leur valeur aux quatre coins du Monde\, des Marais Orcaniens aux terres glacées du Dragon Opalescent. \n2h19
URL:https://etsinous.org/event/kaamelott-2-seance-cinevadrouille-au-bar-la-bas/
LOCATION:Le Barlàbas\, Rue de l'égalité\, Barcillonnette\, 05110\, France
CATEGORIES:Actualités
ATTACH;FMTTYPE=image/jpeg:https://etsinous.org/wp-content/uploads/2025/11/AFFICHE_20KAAMELOTT1.jpg
END:VEVENT
BEGIN:VEVENT
DTSTART;TZID=Europe/Paris:20251213T180000
DTEND;TZID=Europe/Paris:20251213T190000
DTSTAMP:20260425T163823
CREATED:20251107T153806Z
LAST-MODIFIED:20251107T155907Z
UID:2275-1765648800-1765652400@etsinous.org
SUMMARY:"Nos voisins champsaurins" Séance Cinévadrouille à 18h
DESCRIPTION:L’histoire : Axel et Clément\, passionnés de trail\, traversent le Champsaur en courant. Au-delà du défi sportif\, leur périple devient une rencontre avec les paysans\, bergers\, artisans ou gardiens de refuges dont le savoir-faire et l’attachement à la terre révèlent l’âme généreuse de la vallée. \n54mn \nRepas partagé tiré des paniers puis séance du soir à 20h avec  » Kaamelott 2″
URL:https://etsinous.org/event/nos-voisins-champsaurins-seance-cinevadrouille-a-18h/
LOCATION:Le Barlàbas\, Rue de l'égalité\, Barcillonnette\, 05110\, France
CATEGORIES:Actualités
ATTACH;FMTTYPE=image/jpeg:https://etsinous.org/wp-content/uploads/2025/11/CHAMPSAUR0.jpg
END:VEVENT
BEGIN:VEVENT
DTSTART;TZID=Europe/Paris:20251207T090000
DTEND;TZID=Europe/Paris:20251207T130000
DTSTAMP:20260425T163823
CREATED:20251120T183149Z
LAST-MODIFIED:20251120T183252Z
UID:2288-1765098000-1765112400@etsinous.org
SUMMARY:Le petit marché de Noël de Barci
DESCRIPTION:L’équipe du Bar-là-bas vous propose un petit marché pour préparer Noël avec des créations locales de nos artisans\, artistes…
URL:https://etsinous.org/event/le-petit-marche-de-noel-de-barci/
LOCATION:Le Barlàbas\, Rue de l'égalité\, Barcillonnette\, 05110\, France
CATEGORIES:Actualités
ATTACH;FMTTYPE=image/jpeg:https://etsinous.org/wp-content/uploads/2025/11/Marche-Noel-barci-7-12-25.jpg
END:VEVENT
BEGIN:VEVENT
DTSTART;TZID=Europe/Paris:20251204T183000
DTEND;TZID=Europe/Paris:20251204T200000
DTSTAMP:20260425T163823
CREATED:20251107T152735Z
LAST-MODIFIED:20251107T155721Z
UID:2272-1764873000-1764878400@etsinous.org
SUMMARY:Apéro- info autour du Festival Chaud devant
DESCRIPTION:Le Festival « Chaud Devant » se prépare à Barcillonnette . \nLe  13 et 14 juin 2026\, l’association Et Si nous proposera un grand festival positif et joyeux\, pour partager des connaissances\, des solutions\, des expériences réussies face au réchauffement climatique. \nLa programmation sera variée\, conférences (notamment avec Isabelle AUTISSIER et Rob HOPKINS )\, spectacles\, animations\, concerts… \nLe village de Barcillonnette accueillera ce festival sur deux jours\, samedi et dimanche\, ce qui impactera un peu la vie des habitants. \nEn effet\, la plupart des espaces dans le village seront occupés soit par les animations\, les spectacles\, les ateliers\, stands\, etc… \nLa circulation automobile sera règlementée de façon à favoriser les mobilités douces\, vélos\, marche\, trottinettes\, rollers… \nTous les habitants de Barcillonnette et des villages voisins sont donc conviés à un apéritif d’information où vous serez accueillis par l’équipe organisatrice. \nLe 4 décembre 2025 à 18h30  à 20 h au Barlabas  \nVous pourrez poser toutes vos questions concernant l’organisation de ce grand moment dans la vie du village\, et bien sûr\, si vous le souhaitez\, vous joindre à nous pour un coup de main\, une idée\, une participation active\, etc…
URL:https://etsinous.org/event/apero-info-autour-du-festival-chaud-devant/
LOCATION:Le Barlàbas\, Rue de l'égalité\, Barcillonnette\, 05110\, France
CATEGORIES:Actualités
ATTACH;FMTTYPE=image/jpeg:https://etsinous.org/wp-content/uploads/2025/11/barlabas-nv-facade.jpg
END:VEVENT
BEGIN:VEVENT
DTSTART;TZID=Europe/Paris:20251115T200000
DTEND;TZID=Europe/Paris:20251115T220000
DTSTAMP:20260425T163823
CREATED:20251016T201618Z
LAST-MODIFIED:20251016T201618Z
UID:2254-1763236800-1763244000@etsinous.org
SUMMARY:"Météors" séance Cinévadrouille au Barlàbas
DESCRIPTION:Film de Hubert Charuel et Claude Le Pape · 1 h 48 min · 8 octobre 2025 (France) \nGenre : Drame\nFiche technique \nDiagonale du vide. Trois amis inséparables. Tony est devenu le roi du BTP\, Mika et Dan les rois de rien du tout. Ils ont beaucoup de rêves et pas beaucoup de chance. Après un nouveau plan raté\, Mika et Dan doivent se sauver d’ici\, et même se sauver tout court. Ils se retrouvent à bosser pour Tony dans une poubelle nucléaire. Est-ce le début d’une nouvelle vie ou la fin de tout ?
URL:https://etsinous.org/event/meteors-seance-cinevadrouille-au-barlabas/
LOCATION:BARCILLONNETTE\, 05110\, France
CATEGORIES:Actualités
ATTACH;FMTTYPE=image/jpeg:https://etsinous.org/wp-content/uploads/2025/10/AFFICHE_20METEORS.jpg
END:VEVENT
BEGIN:VEVENT
DTSTART;TZID=Europe/Paris:20251115T093000
DTEND;TZID=Europe/Paris:20251115T120000
DTSTAMP:20260425T163823
CREATED:20251107T151552Z
LAST-MODIFIED:20251107T151552Z
UID:2270-1763199000-1763208000@etsinous.org
SUMMARY:Réunion de préparation "Festival Chaud devant"
DESCRIPTION:N’hésitez pas à rejoindre l’équipe organisatrice du festival. Toutes les contributions sot les bienvenues. \nRDV au Bar-là-Bas
URL:https://etsinous.org/event/reunion-de-preparation-festival-chaud-devant/
LOCATION:BARCILLONNETTE\, 05110\, France
CATEGORIES:Actualités
ATTACH;FMTTYPE=image/png:https://etsinous.org/wp-content/uploads/2023/04/Reunion.png
END:VEVENT
BEGIN:VEVENT
DTSTART;TZID=Europe/Paris:20251109T170000
DTEND;TZID=Europe/Paris:20251109T183000
DTSTAMP:20260425T163823
CREATED:20250916T091850Z
LAST-MODIFIED:20251007T143711Z
UID:2221-1762707600-1762713000@etsinous.org
SUMMARY:Martine SCOZZESI Concert au profit d'Amnesty international au Bar-là-Bas
DESCRIPTION:Martine Scozzesi\, la chanson à pleine vie ! \n « Elles ne sont pas si courantes\, ces chansons qui savent nous parler de lutte\, d’amour et de résistance. Ces chansons qui savent nous émouvoir sans nous plomber\, qui nous parlent d’amour en nous parlant d’universel\, qui nous parlent de nous en chantant le monde tel qu’il est\, terrible absurde et tellement beau. Quand ce sont ces mots\, si forts et poétiques\, quand c’est cette belle voix-là\, profonde et puissante\, quand c’est cette musique\, si vibrante et porteuse d’émotion\, on se dit que certains concerts devraient être reconnus d’utilité publique. »   Nos Enchanteurs Anne Lefebvre\,  Janvier 2019 \nRéservations conseillées au 06 83 70 24 59. Réponse par sms.
URL:https://etsinous.org/event/martine-scozzesi-concert-au-profit-damnesty-international-au-bar-la-bas/
LOCATION:BARCILLONNETTE\, 05110\, France
CATEGORIES:Actualités
ATTACH;FMTTYPE=image/jpeg:https://etsinous.org/wp-content/uploads/2025/09/M-Scozzesi-concert-Amnesty-25.jpg
END:VEVENT
BEGIN:VEVENT
DTSTART;TZID=Europe/Paris:20251105T140000
DTEND;TZID=Europe/Paris:20251105T170000
DTSTAMP:20260425T163823
CREATED:20251030T114937Z
LAST-MODIFIED:20251030T114937Z
UID:2263-1762351200-1762362000@etsinous.org
SUMMARY:Atelier osier
DESCRIPTION:Les ateliers Osier reprennent avec Raymond. N’hésitez pas à rejoindrre le groupe.
URL:https://etsinous.org/event/atelier-osier/
LOCATION:BARCILLONNETTE\, 05110\, France
CATEGORIES:Actualités
ATTACH;FMTTYPE=image/jpeg:https://etsinous.org/wp-content/uploads/2024/01/osier.jpg
END:VEVENT
BEGIN:VEVENT
DTSTART;TZID=Europe/Paris:20251104T080000
DTEND;TZID=Europe/Paris:20251129T170000
DTSTAMP:20260425T163823
CREATED:20251104T115838Z
LAST-MODIFIED:20251119T152857Z
UID:2266-1762243200-1764435600@etsinous.org
SUMMARY:En novembre\, au Bar-Là-Bas
DESCRIPTION:Tous nos rdv de novembre en un seul coup d’oeil ! \nNos ateliers aquarelle\, yoga\, danses\, osier… sont proposés par nos sympathiques bénévoles souhaitant partager un bon moment.
URL:https://etsinous.org/event/en-novembre-au-bar-la-bas/
LOCATION:BARCILLONNETTE\, 05110\, France
CATEGORIES:Actualités
ATTACH;FMTTYPE=image/jpeg:https://etsinous.org/wp-content/uploads/2025/11/blb-nov-d.jpg
END:VEVENT
BEGIN:VEVENT
DTSTART;TZID=Europe/Paris:20251031T200000
DTEND;TZID=Europe/Paris:20251031T200000
DTSTAMP:20260425T163823
CREATED:20250916T092739Z
LAST-MODIFIED:20250916T092858Z
UID:2224-1761940800-1761940800@etsinous.org
SUMMARY:ZKB\, une soirée musique Klezmer au Bar-là-Bas
DESCRIPTION:Un vendredi musicale avec le grouoe ZKB. Libre participation \nLe bar associatif est ouvert dès 18h30.Petite restauration
URL:https://etsinous.org/event/zkb-une-soiree-musique-klezmer-au-bar-la-bas/
LOCATION:BARCILLONNETTE\, 05110\, France
CATEGORIES:Actualités
ATTACH;FMTTYPE=image/jpeg:https://etsinous.org/wp-content/uploads/2025/09/Klezmer.jpg
END:VEVENT
BEGIN:VEVENT
DTSTART;TZID=Europe/Paris:20251021T193000
DTEND;TZID=Europe/Paris:20251021T210000
DTSTAMP:20260425T163823
CREATED:20251017T071102Z
LAST-MODIFIED:20251017T071633Z
UID:2256-1761075000-1761080400@etsinous.org
SUMMARY:Atelier danse en ligne à Barcillonnette
DESCRIPTION:La nouvelle saison  commence ! \nCathy  propose de vous retrouver le mardi 21 octobre à 19h30 dans la salle de danse de la Bergerie (ou au Bar là bas si trop nombreux 😁) \nComme précisé depuis toujours\, aucun niveau n’est requis\, il s’agit plutôt de nous dégourdir les jambes sur des rythmes sympathiques et modernes et apprendre quelques chorégraphies (madison\, bachata\, rock\, salsa\,…) !! \nPour les nouveaux qui souhaitent découvrir que la danse en ligne n’est pas de la danse sur internet☺ \, n’hésitez pas à venir essayer .
URL:https://etsinous.org/event/atelier-danse-en-ligne-a-barcillonnette/
LOCATION:BARCILLONNETTE\, 05110\, France
CATEGORIES:Actualités
ATTACH;FMTTYPE=image/jpeg:https://etsinous.org/wp-content/uploads/2025/10/Group-holding-hands-going-somewhere.jpeg
END:VEVENT
BEGIN:VEVENT
DTSTART;TZID=Europe/Paris:20251018T203000
DTEND;TZID=Europe/Paris:20251018T223000
DTSTAMP:20260425T163823
CREATED:20251016T201154Z
LAST-MODIFIED:20251016T201154Z
UID:2252-1760819400-1760826600@etsinous.org
SUMMARY:" Fils de" séance Cinévadrouille au Barlàbas
DESCRIPTION:Film de Carlos Abascal Peiró · 1 h 45 min · 3 septembre 2025 (France) \nGenre : Comédie\nFiche technique \nUne semaine après la présidentielle\, la France cherche toujours son Premier Ministre. Nino\, jeune attaché parlementaire ambitieux\, est missionné pour convaincre son père\, Lionel Perrin d’accepter le poste. Mais cet éternel perdant a coupé les ponts avec la politique…et son fils. Nino se retrouve embarqué dans une course effrénée où tous les coups sont permis. Il a 24h pour sauver sa carrière\, son couple et si possible l’avenir de la France !
URL:https://etsinous.org/event/fils-de-seance-cinevadrouille-au-barlabas/
LOCATION:BARCILLONNETTE\, 05110\, France
CATEGORIES:Actualités
ATTACH;FMTTYPE=image/png:https://etsinous.org/wp-content/uploads/2025/10/FILS_20DE0.png
END:VEVENT
BEGIN:VEVENT
DTSTART;TZID=Europe/Paris:20251018T174500
DTEND;TZID=Europe/Paris:20251018T174500
DTSTAMP:20260425T163823
CREATED:20251016T200626Z
LAST-MODIFIED:20251016T200748Z
UID:2242-1760809500-1760809500@etsinous.org
SUMMARY:" Différente" séance Cinévadrouille au Barlàbas
DESCRIPTION:Film de Lola Doillon · 1 h 40 min · 11 juin 2025 (France) \nGenre : Drame \n\nFiche technique \nKatia\, brillante documentaliste de 35 ans\, fait preuve de singularité dans sa manière de vivre ses relations\, toutes plus ou moins chaotiques. Sa participation à un nouveau reportage l’amène à mettre enfin un mot sur sa différence. Révélation qui va chambouler une vie déjà bien compliquée. \nRepas partagé à 19h30 puis 2e film à 20h30  » Fils de »
URL:https://etsinous.org/event/differente-seance-cinevadrouille-au-barlabas/
LOCATION:BARCILLONNETTE\, 05110\, France
CATEGORIES:Actualités
ATTACH;FMTTYPE=image/png:https://etsinous.org/wp-content/uploads/2025/10/DIFFERENTE0.png
END:VEVENT
BEGIN:VEVENT
DTSTART;TZID=Europe/Paris:20251015T183000
DTEND;TZID=Europe/Paris:20251015T203000
DTSTAMP:20260425T163823
CREATED:20251006T111623Z
LAST-MODIFIED:20251006T111623Z
UID:2234-1760553000-1760560200@etsinous.org
SUMMARY:Danses traditionnelles avec Bernard au Bar-là-Bas
DESCRIPTION:La saison des danses traditionnelles a repris avec Bernard. \nN’hésitez pas à en parler à vos ami(e)s\, à vos voisin(e)s en expliquant qu’on peut participer à ces rencontres par sa seule présence et que la convivialité reste le maître mot. Les musicien(ne)s avec un répertoire trad sont évidemment les bienvenus. \nVivement qu’on se revoit et qu’on partage quelques pas \, adroitement ou non \, des sourires \,des rires \, des bavardages et quelques gourmandises (bien entendu pour ceux qui veulent rester pour l' »after »). \nA bientôt\, \nAmicalement\, \nBernard
URL:https://etsinous.org/event/danses-traditionnelles-avec-bernard-au-bar-la-bas-2/
LOCATION:BARCILLONNETTE\, 05110\, France
CATEGORIES:Actualités
ATTACH;FMTTYPE=image/jpeg:https://etsinous.org/wp-content/uploads/2024/11/danses-tradit.jpeg
END:VEVENT
BEGIN:VEVENT
DTSTART;TZID=Europe/Paris:20251011T203000
DTEND;TZID=Europe/Paris:20251011T203000
DTSTAMP:20260425T163823
CREATED:20250904T144932Z
LAST-MODIFIED:20251006T112127Z
UID:2204-1760214600-1760214600@etsinous.org
SUMMARY:Réservez votre soirée GAINSBOURG  avec la bande à Pierrot au BAR-LA-BAS
DESCRIPTION:La bande à Pierrot nous propose une soirée GAINSBOURG. \nRésevations  conseillées par sms au 06 83 70 24 59
URL:https://etsinous.org/event/la-bande-a-pierrot-chante-gainsbourg-au-bar-la-bas/
LOCATION:BARCILLONNETTE\, 05110\, France
CATEGORIES:Actualités
ATTACH;FMTTYPE=image/jpeg:https://etsinous.org/wp-content/uploads/2025/09/Gainsbourg-11-10-25.jpg
END:VEVENT
BEGIN:VEVENT
DTSTART;TZID=Europe/Paris:20251008T183000
DTEND;TZID=Europe/Paris:20251008T203000
DTSTAMP:20260425T163823
CREATED:20251006T110958Z
LAST-MODIFIED:20251006T111854Z
UID:2232-1759948200-1759955400@etsinous.org
SUMMARY:Danses traditionnelles avec Bernard au Bar-là-bas
DESCRIPTION:Les ateliers danses traditionnelles reprennent avec Bernard. \nVous ne pourrez pas échapper à son répertoire préféré de danses du sud-ouest avec quelques découvertes \, bien sûr.(PJ: Congo de La Sauvetat de Savères) \nN’hésitez pas à en parler à vos ami(e)s\, à vos voisin(e)s en expliquant qu’on peut participer à ces rencontres par sa seule présence et que la convivialité reste le maître mot. Les musicien(ne)s avec un répertoire trad sont évidemment les bienvenus. \nVivement qu’on se revoit et qu’on partage quelques pas \, adroitement ou non \, des sourires \,des rires \, des bavardages et quelques gourmandises (bien entendu pour ceux qui veulent rester pour l' »after »). \nA bientôt\, \nAmicalement\, \nBernard
URL:https://etsinous.org/event/danses-traditionnelles-avec-bernard-au-bar-la-bas/
LOCATION:BARCILLONNETTE\, 05110\, France
CATEGORIES:Actualités
ATTACH;FMTTYPE=image/jpeg:https://etsinous.org/wp-content/uploads/2024/11/danses-trad.jpg
END:VEVENT
END:VCALENDAR